BEGIN:VCALENDAR
VERSION:2.0
PRODID:-//wp-events-plugin.com//7.2.3.1//EN
TZID:America/Chicago
X-WR-TIMEZONE:America/Chicago
BEGIN:VEVENT
UID:321@runbeerrepeat.com
DTSTART;TZID=America/Chicago:20251106T183000
DTEND;TZID=America/Chicago:20251106T190000
DTSTAMP:20250912T170404Z
URL:https://runbeerrepeat.com/events/3986/
SUMMARY:Big Wood Brewery
DESCRIPTION:Join us at Big Wood Brewery in Vadnais Heights for an awesome r
 un! Come join us for a 30-minute out-and-back run\, followed by some great
  beer! We will meet at 6:20pm in the front of the facility and will start 
 our run at 6:30 sharp so please plan to get there and parked on time. Afte
 r our 30-minute run we’ll meet back at Big Wood for a post-run beverage!
  If you are joining us\, make sure to RSVP on the website at or the Facebo
 ok Event RBR Facebook Events.
CATEGORIES:Club Runs
LOCATION:Big Wood Brewery\, 3429 Centerville Rd\, Vadnais Heights\, MN\, 55
 127\, United States
X-APPLE-STRUCTURED-LOCATION;VALUE=URI;X-ADDRESS=3429 Centerville Rd\, Vadna
 is Heights\, MN\, 55127\, United States;X-APPLE-RADIUS=100;X-TITLE=Big Woo
 d Brewery:geo:0,0
END:VEVENT
BEGIN:VTIMEZONE
TZID:America/Chicago
X-LIC-LOCATION:America/Chicago
BEGIN:STANDARD
DTSTART:20251102T010000
TZOFFSETFROM:-0500
TZOFFSETTO:-0600
TZNAME:CST
END:STANDARD
END:VTIMEZONE
END:VCALENDAR