BEGIN:VCALENDAR
VERSION:2.0
PRODID:-//wp-events-plugin.com//7.2.3.1//EN
TZID:America/Chicago
X-WR-TIMEZONE:America/Chicago
BEGIN:VEVENT
UID:327@runbeerrepeat.com
DTSTART;TZID=America/Chicago:20260129T183000
DTEND;TZID=America/Chicago:20260129T190000
DTSTAMP:20250912T172113Z
URL:https://runbeerrepeat.com/events/3rd-act-craft-brewery/
SUMMARY:3rd Act Craft Brewery
DESCRIPTION:Join us at 3rd Act Craft Brewery in Woodbury for an awesome run
 ! Come join us for a 30-minute out-and-back run\, followed by some great b
 eer! We will meet at 6:20pm in the front of the facility and will start ou
 r run at 6:30 sharp so please plan to get there and parked on time. After 
 our 30-minute run we’ll meet back at 3rd Act for a post-run beverage! If
  you are joining us\, make sure to RSVP on the website at or the Facebook 
 Event RBR Facebook Events.
CATEGORIES:Club Runs
LOCATION:3rd Act Craft Brewery\, 4120 Radio Dr\, Woodbury\, MN\, 55129\, Un
 ited States
X-APPLE-STRUCTURED-LOCATION;VALUE=URI;X-ADDRESS=4120 Radio Dr\, Woodbury\, 
 MN\, 55129\, United States;X-APPLE-RADIUS=100;X-TITLE=3rd Act Craft Brewer
 y:geo:0,0
END:VEVENT
BEGIN:VTIMEZONE
TZID:America/Chicago
X-LIC-LOCATION:America/Chicago
BEGIN:STANDARD
DTSTART:20251102T010000
TZOFFSETFROM:-0500
TZOFFSETTO:-0600
TZNAME:CST
END:STANDARD
END:VTIMEZONE
END:VCALENDAR