BEGIN:VCALENDAR
VERSION:2.0
PRODID:-//wp-events-plugin.com//7.2.3.1//EN
TZID:America/Chicago
X-WR-TIMEZONE:America/Chicago
BEGIN:VEVENT
UID:317@runbeerrepeat.com
DTSTART;TZID=America/Chicago:20250918T183000
DTEND;TZID=America/Chicago:20250918T190000
DTSTAMP:20250905T003920Z
URL:https://runbeerrepeat.com/events/56-brewing/
SUMMARY:56 Brewing
DESCRIPTION:Join us at 56 Brewing in Minneapolis for an awesome run! Come j
 oin us for a 30-minute out-and-back run\, followed by some great beer! We 
 will meet at 6:20pm in the front of the facility and will start our run at
  6:30 sharp so please plan to get there and parked on time. After our 30-m
 inute run we’ll meet back at 56 Brewing for a post-run beverage! If you 
 are joining us\, make sure to RSVP on the website at or the Facebook Event
  RBR Facebook Events.
CATEGORIES:Club Runs
LOCATION:56 Brewing\, 055 NE Columbia Ave Suite 102\, Minneapolis\, MN\, 55
 418\, United States
GEO:45.023681;-93.27223900000001
X-APPLE-STRUCTURED-LOCATION;VALUE=URI;X-ADDRESS=055 NE Columbia Ave Suite 1
 02\, Minneapolis\, MN\, 55418\, United States;X-APPLE-RADIUS=100;X-TITLE=5
 6 Brewing:geo:45.023681,-93.27223900000001
END:VEVENT
BEGIN:VTIMEZONE
TZID:America/Chicago
X-LIC-LOCATION:America/Chicago
BEGIN:DAYLIGHT
DTSTART:20250309T030000
TZOFFSETFROM:-0600
TZOFFSETTO:-0500
TZNAME:CDT
END:DAYLIGHT
END:VTIMEZONE
END:VCALENDAR