BEGIN:VCALENDAR
VERSION:2.0
PRODID:-//wp-events-plugin.com//7.2.3.1//EN
TZID:America/Chicago
X-WR-TIMEZONE:America/Chicago
BEGIN:VEVENT
UID:186@runbeerrepeat.com
DTSTART;TZID=America/Chicago:20210401T190000
DTEND;TZID=America/Chicago:20210401T210000
DTSTAMP:20210325T202724Z
URL:https://runbeerrepeat.com/events/april-1st-gorunthenbeerrepeat/
SUMMARY:April 1st GoRunThenBeerRepeat
DESCRIPTION:Join us April 1st for another RunBeerRepeat #GoRunThenBeerRepea
 t event! This one will be hosted by club member Becky at her home in NE Mi
 nneapolis on Pierce Street NE between 22nd and 19th Ave NE. The exact addr
 ess will be emailed to all RSVP's the week of the run.\n\nAs usual (for no
 w)\, go for a 30 minute run on your own\, following out COVID-19 guidance\
 , then bring your own everything and come hang out with us!
CATEGORIES:Club Runs
END:VEVENT
BEGIN:VTIMEZONE
TZID:America/Chicago
X-LIC-LOCATION:America/Chicago
BEGIN:DAYLIGHT
DTSTART:20210314T030000
TZOFFSETFROM:-0600
TZOFFSETTO:-0500
TZNAME:CDT
END:DAYLIGHT
END:VTIMEZONE
END:VCALENDAR