BEGIN:VCALENDAR
VERSION:2.0
PRODID:-//wp-events-plugin.com//7.2.3.1//EN
TZID:America/Chicago
X-WR-TIMEZONE:America/Chicago
BEGIN:VEVENT
UID:74@runbeerrepeat.com
DTSTART;TZID=America/Chicago:20170420T183000
DTEND;TZID=America/Chicago:20170420T200000
DTSTAMP:20170323T151920Z
URL:https://runbeerrepeat.com/events/april-20th-run/
SUMMARY:April 20th Run
DESCRIPTION:Our run on the 3rd Thursday of April will be from Town Hall Tap
  in Minneapolis!
CATEGORIES:Club Runs
LOCATION:Town Hall Tap\, 4810 Chicago Ave\, Minneapolis\, MN\, 55417\, Unit
 ed States
GEO:44.9157617;-93.26292519999998
X-APPLE-STRUCTURED-LOCATION;VALUE=URI;X-ADDRESS=4810 Chicago Ave\, Minneapo
 lis\, MN\, 55417\, United States;X-APPLE-RADIUS=100;X-TITLE=Town Hall Tap:
 geo:44.9157617,-93.26292519999998
END:VEVENT
BEGIN:VTIMEZONE
TZID:America/Chicago
X-LIC-LOCATION:America/Chicago
BEGIN:DAYLIGHT
DTSTART:20170312T030000
TZOFFSETFROM:-0600
TZOFFSETTO:-0500
TZNAME:CDT
END:DAYLIGHT
END:VTIMEZONE
END:VCALENDAR