BEGIN:VCALENDAR
VERSION:2.0
PRODID:-//wp-events-plugin.com//7.2.3.1//EN
TZID:America/Chicago
X-WR-TIMEZONE:America/Chicago
BEGIN:VEVENT
UID:250@runbeerrepeat.com
DTSTART;TZID=America/Chicago:20230427T182000
DTEND;TZID=America/Chicago:20230427T210000
DTSTAMP:20230331T180201Z
URL:https://runbeerrepeat.com/events/april-27th-bonus-run-at-mana-brewing/
SUMMARY:April 27th Bonus run at Mana Brewing
DESCRIPTION:Join us in Shakopee at Mana Brewing for a bonus run in April. T
 he group meets at 6:20 near the front of the brewery\, then takes off for 
 a 30 minute run or walk at 6:30. We will head out for 15 minutes\, then tu
 rn around and head back to the brewery to enjoy some beers together! All p
 aces are welcome!
CATEGORIES:Club Runs
LOCATION:Mana Brewing\, 129 Holmes St S Suite 100\, Shakopee\, MN\, 55379\,
  United States
X-APPLE-STRUCTURED-LOCATION;VALUE=URI;X-ADDRESS=129 Holmes St S Suite 100\,
  Shakopee\, MN\, 55379\, United States;X-APPLE-RADIUS=100;X-TITLE=Mana Bre
 wing:geo:0,0
END:VEVENT
BEGIN:VTIMEZONE
TZID:America/Chicago
X-LIC-LOCATION:America/Chicago
BEGIN:DAYLIGHT
DTSTART:20230312T030000
TZOFFSETFROM:-0600
TZOFFSETTO:-0500
TZNAME:CDT
END:DAYLIGHT
END:VTIMEZONE
END:VCALENDAR