BEGIN:VCALENDAR
VERSION:2.0
PRODID:-//wp-events-plugin.com//7.2.3.1//EN
TZID:America/Chicago
X-WR-TIMEZONE:America/Chicago
BEGIN:VEVENT
UID:45@runbeerrepeat.com
DTSTART;TZID=America/Chicago:20160407T183000
DTEND;TZID=America/Chicago:20160407T203000
DTSTAMP:20160309T035111Z
URL:https://runbeerrepeat.com/events/april-7th-run/
SUMMARY:April 7th Run
DESCRIPTION:Join us for our first run of April at Northgate Brewing in Minn
 eapolis. The 30 minute run starts promptly at 6:30pm.
CATEGORIES:Club Runs
LOCATION:Northgate Brewing\, 783 Harding St NE\, Minneapolis\, MN\, 55413\,
  United States
GEO:44.9983406;-93.22114959999999
X-APPLE-STRUCTURED-LOCATION;VALUE=URI;X-ADDRESS=783 Harding St NE\, Minneap
 olis\, MN\, 55413\, United States;X-APPLE-RADIUS=100;X-TITLE=Northgate Bre
 wing:geo:44.9983406,-93.22114959999999
END:VEVENT
BEGIN:VTIMEZONE
TZID:America/Chicago
X-LIC-LOCATION:America/Chicago
BEGIN:DAYLIGHT
DTSTART:20160313T030000
TZOFFSETFROM:-0600
TZOFFSETTO:-0500
TZNAME:CDT
END:DAYLIGHT
END:VTIMEZONE
END:VCALENDAR