BEGIN:VCALENDAR
VERSION:2.0
PRODID:-//wp-events-plugin.com//7.2.3.1//EN
TZID:America/Chicago
X-WR-TIMEZONE:America/Chicago
BEGIN:VEVENT
UID:6@runbeerrepeat.com
DTSTART;TZID=America/Chicago:20140821T183000
DTEND;TZID=America/Chicago:20140821T200000
DTSTAMP:20140808T002834Z
URL:https://runbeerrepeat.com/events/august-21st-run/
SUMMARY:August 21st Run
DESCRIPTION:Come run with us! Our regularly scheduled 3rd Thursday run will
  be a blast!\n\nWe have a special treat! Mike Willaford\, head brewer at S
 ociable Cider Werkswill be giving us all a quick tour of the Cider house/B
 rewery after our run!  It's sure to be a fantastic run and beer (or cider!
 ) \n\nRSVP below and check back soon for the details on the 30 minute\, or
  5k route we will be running!
CATEGORIES:Club Runs
LOCATION:Sociable Cider Werks\, 1500 Fillmore Street Northeast\, Minneapoli
 s\, MN\, 55413\, United States
GEO:45.0034116;-93.24237360000001
X-APPLE-STRUCTURED-LOCATION;VALUE=URI;X-ADDRESS=1500 Fillmore Street Northe
 ast\, Minneapolis\, MN\, 55413\, United States;X-APPLE-RADIUS=100;X-TITLE=
 Sociable Cider Werks:geo:45.0034116,-93.24237360000001
END:VEVENT
BEGIN:VTIMEZONE
TZID:America/Chicago
X-LIC-LOCATION:America/Chicago
BEGIN:DAYLIGHT
DTSTART:20140309T030000
TZOFFSETFROM:-0600
TZOFFSETTO:-0500
TZNAME:CDT
END:DAYLIGHT
END:VTIMEZONE
END:VCALENDAR