BEGIN:VCALENDAR
VERSION:2.0
PRODID:-//wp-events-plugin.com//7.2.3.1//EN
TZID:America/Chicago
X-WR-TIMEZONE:America/Chicago
BEGIN:VEVENT
UID:115@runbeerrepeat.com
DTSTART;TZID=America/Chicago:20180802T183000
DTEND;TZID=America/Chicago:20180802T203000
DTSTAMP:20180615T201013Z
URL:https://runbeerrepeat.com/events/august-2nd-run/
SUMMARY:August 2nd Run
DESCRIPTION:Our August 2nd Run will be from Utepils Brewing in Minneapolis
ATTACH;FMTTYPE=image/jpeg:https://s3.amazonaws.com/storage.runbeerrepeat.c
 om/2019/06/rbr-utepils.png
CATEGORIES:Club Runs
LOCATION:Utepils Brewing\, 225 Thomas Ave N # 700\, Minneapolis\, MN\, 5540
 5\, United States
GEO:44.9790369;-93.31277369999998
X-APPLE-STRUCTURED-LOCATION;VALUE=URI;X-ADDRESS=225 Thomas Ave N # 700\, Mi
 nneapolis\, MN\, 55405\, United States;X-APPLE-RADIUS=100;X-TITLE=Utepils 
 Brewing:geo:44.9790369,-93.31277369999998
END:VEVENT
BEGIN:VTIMEZONE
TZID:America/Chicago
X-LIC-LOCATION:America/Chicago
BEGIN:DAYLIGHT
DTSTART:20180311T030000
TZOFFSETFROM:-0600
TZOFFSETTO:-0500
TZNAME:CDT
END:DAYLIGHT
END:VTIMEZONE
END:VCALENDAR