BEGIN:VCALENDAR
VERSION:2.0
PRODID:-//wp-events-plugin.com//7.2.3.1//EN
TZID:America/Chicago
X-WR-TIMEZONE:America/Chicago
BEGIN:VEVENT
UID:86@runbeerrepeat.com
DTSTART;TZID=America/Chicago:20170831T183000
DTEND;TZID=America/Chicago:20170831T200000
DTSTAMP:20170829T184726Z
URL:https://runbeerrepeat.com/events/august-31st-pop-trail-run/
SUMMARY:August 31st Pop-up Trail Run
DESCRIPTION:We are having a pop-up trail run this Thursday\, August 31st at
  the Jensen Trailhead of Lebanon Hills Regional Park. \n\nWe will head out
  for a 3-ish mile or 30-ish minute run. After the run\, we will drive up t
 o Union 32 Craft House for a post-run beverage!
CATEGORIES:Popup Runs
LOCATION:Lebanon Hills\, Jensen Trailhead\, 1398 Carriage Hills Dr\, Eagan\
 , MN\, 55123\, United States
GEO:44.7792533;-93.16585179999998
X-APPLE-STRUCTURED-LOCATION;VALUE=URI;X-ADDRESS=1398 Carriage Hills Dr\, Ea
 gan\, MN\, 55123\, United States;X-APPLE-RADIUS=100;X-TITLE=Lebanon Hills\
 , Jensen Trailhead:geo:44.7792533,-93.16585179999998
END:VEVENT
BEGIN:VTIMEZONE
TZID:America/Chicago
X-LIC-LOCATION:America/Chicago
BEGIN:DAYLIGHT
DTSTART:20170312T030000
TZOFFSETFROM:-0600
TZOFFSETTO:-0500
TZNAME:CDT
END:DAYLIGHT
END:VTIMEZONE
END:VCALENDAR