BEGIN:VCALENDAR
VERSION:2.0
PRODID:-//wp-events-plugin.com//7.2.3.1//EN
TZID:America/Chicago
X-WR-TIMEZONE:America/Chicago
BEGIN:VEVENT
UID:177@runbeerrepeat.com
DTSTART;TZID=America/Chicago:20200806T190000
DTEND;TZID=America/Chicago:20200806T210000
DTSTAMP:20200803T213700Z
URL:https://runbeerrepeat.com/events/august-6th-gorunthenbeerrepeat/
SUMMARY:August 6th #GoRunThenBeerRepeat
DESCRIPTION:Join us July 16th for another RunBeerRepeat #GoRunThenBeerRepea
 t event! Jump on the trails or the paved path along the road\, then join u
 s in the green space on the north side of the road from the shelter for a 
 socially distant hang-out!\n\nAs usual (for now)\, go for a 30 minute run 
 on your own\, following out COVID-19 guidance\, then bring your own everyt
 hing and come hang out with us!
CATEGORIES:Club Runs
LOCATION:Lebanon Hills\, Jensen Trailhead\, 1398 Carriage Hills Dr\, Eagan\
 , MN\, 55123\, United States
GEO:44.7792533;-93.16585179999998
X-APPLE-STRUCTURED-LOCATION;VALUE=URI;X-ADDRESS=1398 Carriage Hills Dr\, Ea
 gan\, MN\, 55123\, United States;X-APPLE-RADIUS=100;X-TITLE=Lebanon Hills\
 , Jensen Trailhead:geo:44.7792533,-93.16585179999998
END:VEVENT
BEGIN:VTIMEZONE
TZID:America/Chicago
X-LIC-LOCATION:America/Chicago
BEGIN:DAYLIGHT
DTSTART:20200308T030000
TZOFFSETFROM:-0600
TZOFFSETTO:-0500
TZNAME:CDT
END:DAYLIGHT
END:VTIMEZONE
END:VCALENDAR