BEGIN:VCALENDAR
VERSION:2.0
PRODID:-//wp-events-plugin.com//7.2.3.1//EN
TZID:America/Chicago
X-WR-TIMEZONE:America/Chicago
BEGIN:VEVENT
UID:253@runbeerrepeat.com
DTSTART;TZID=America/Chicago:20230720T182000
DTEND;TZID=America/Chicago:20230720T203000
DTSTAMP:20230706T001205Z
URL:https://runbeerrepeat.com/events/bad-weather-brewery-on-july-20th/
SUMMARY:Bad Weather Brewery on July 20th
DESCRIPTION:Join us in St. Paul at Bad Weather Brewery for our 2nd July run
 . The group meets at 6:20 near the front of the brewery. We head out from 
 the brewery at 6:30 for a run or walk for 15 minutes\, then turn around an
 d come back to socialize and drink some delicious beverages.  All running
  or walking paces are welcome!
CATEGORIES:Club Runs
LOCATION:Bad Weather Brewing\, 414 7th Street West\, St Paul\, MN\, 55102\,
  United States
GEO:44.9389353;-93.11019970000001
X-APPLE-STRUCTURED-LOCATION;VALUE=URI;X-ADDRESS=414 7th Street West\, St Pa
 ul\, MN\, 55102\, United States;X-APPLE-RADIUS=100;X-TITLE=Bad Weather Bre
 wing:geo:44.9389353,-93.11019970000001
END:VEVENT
BEGIN:VTIMEZONE
TZID:America/Chicago
X-LIC-LOCATION:America/Chicago
BEGIN:DAYLIGHT
DTSTART:20230312T030000
TZOFFSETFROM:-0600
TZOFFSETTO:-0500
TZNAME:CDT
END:DAYLIGHT
END:VTIMEZONE
END:VCALENDAR