BEGIN:VCALENDAR
VERSION:2.0
PRODID:-//wp-events-plugin.com//7.2.3.1//EN
TZID:America/Chicago
X-WR-TIMEZONE:America/Chicago
BEGIN:VEVENT
UID:255@runbeerrepeat.com
DTSTART;TZID=America/Chicago:20230817T182000
DTEND;TZID=America/Chicago:20230817T203000
DTSTAMP:20230816T221501Z
URL:https://runbeerrepeat.com/events/bang-brewing-on-august-17th/
SUMMARY:Bang Brewing on August 17th
DESCRIPTION:Join us in St. Paul at Bang Brewing for our 2nd August run. The
  group meets at 6:20 near the front of the brewery. We head out from the b
 rewery at 6:30 for a run or walk for 15 minutes\, then turn around and com
 e back to socialize and drink some delicious beverages.  All running or w
 alking paces are welcome! We will also visit Urban Growler which is right 
 next door.
CATEGORIES:Club Runs
LOCATION:Bang Brewing\, 2320 Capp Road\, St Paul\, MN\, 55114\, United Stat
 es
GEO:44.9704807;-93.19259060000002
X-APPLE-STRUCTURED-LOCATION;VALUE=URI;X-ADDRESS=2320 Capp Road\, St Paul\, 
 MN\, 55114\, United States;X-APPLE-RADIUS=100;X-TITLE=Bang Brewing:geo:44.
 9704807,-93.19259060000002
END:VEVENT
BEGIN:VTIMEZONE
TZID:America/Chicago
X-LIC-LOCATION:America/Chicago
BEGIN:DAYLIGHT
DTSTART:20230312T030000
TZOFFSETFROM:-0600
TZOFFSETTO:-0500
TZNAME:CDT
END:DAYLIGHT
END:VTIMEZONE
END:VCALENDAR