BEGIN:VCALENDAR
VERSION:2.0
PRODID:-//wp-events-plugin.com//7.2.3.1//EN
TZID:America/Chicago
X-WR-TIMEZONE:America/Chicago
BEGIN:VEVENT
UID:312@runbeerrepeat.com
DTSTART;TZID=America/Chicago:20250717T183000
DTEND;TZID=America/Chicago:20250717T190000
DTSTAMP:20250416T181618Z
URL:https://runbeerrepeat.com/events/bent-brewstillery/
SUMMARY:Union 32 Craft House
DESCRIPTION:Join us at Union 32 Craft House in Eagan for an awesome run! Co
 me join us for a 30-minute out-and-back run\, followed by some great beer!
  We will meet at 6:20pm in the front of the facility and will start our ru
 n at 6:30 sharp so please plan to get there and parked on time. After our 
 30-minute run we’ll meet back at Union 32 for a post-run beverage! If yo
 u are joining us\, make sure to RSVP on the website at or the Facebook Eve
 nt RBR Facebook Events.
CATEGORIES:Club Runs
LOCATION:Union 32 Craft House\, 2864 Highway 55\, Eagan\, MN\, 55121\, Unit
 ed States
GEO:44.8539261;-93.13087999999999
X-APPLE-STRUCTURED-LOCATION;VALUE=URI;X-ADDRESS=2864 Highway 55\, Eagan\, M
 N\, 55121\, United States;X-APPLE-RADIUS=100;X-TITLE=Union 32 Craft House:
 geo:44.8539261,-93.13087999999999
END:VEVENT
BEGIN:VTIMEZONE
TZID:America/Chicago
X-LIC-LOCATION:America/Chicago
BEGIN:DAYLIGHT
DTSTART:20250309T030000
TZOFFSETFROM:-0600
TZOFFSETTO:-0500
TZNAME:CDT
END:DAYLIGHT
END:VTIMEZONE
END:VCALENDAR