BEGIN:VCALENDAR
VERSION:2.0
PRODID:-//wp-events-plugin.com//7.2.3.1//EN
TZID:America/Chicago
X-WR-TIMEZONE:America/Chicago
BEGIN:VEVENT
UID:308@runbeerrepeat.com
DTSTART;TZID=America/Chicago:20250529T183000
DTEND;TZID=America/Chicago:20250529T190000
DTSTAMP:20250529T204554Z
URL:https://runbeerrepeat.com/events/big-wood-brewery/
SUMMARY:Bang Brewing Company
DESCRIPTION:Join us at Bang Brewing Company in Saint Paul for an awesome ru
 n! Come join us for a 30-minute out-and-back run\, followed by some great 
 beer! We will meet at 6:20pm in the front of the facility and will start o
 ur run at 6:30 sharp so please plan to get there and parked on time. After
  our 30-minute run we’ll meet back at Bang for a post-run beverage! If y
 ou are joining us\, make sure to RSVP on the website at or the Facebook Ev
 ent RBR Facebook Events.
CATEGORIES:Club Runs
LOCATION:Bang Brewing\, 2320 Capp Road\, St Paul\, MN\, 55114\, United Stat
 es
GEO:44.9704807;-93.19259060000002
X-APPLE-STRUCTURED-LOCATION;VALUE=URI;X-ADDRESS=2320 Capp Road\, St Paul\, 
 MN\, 55114\, United States;X-APPLE-RADIUS=100;X-TITLE=Bang Brewing:geo:44.
 9704807,-93.19259060000002
END:VEVENT
BEGIN:VTIMEZONE
TZID:America/Chicago
X-LIC-LOCATION:America/Chicago
BEGIN:DAYLIGHT
DTSTART:20250309T030000
TZOFFSETFROM:-0600
TZOFFSETTO:-0500
TZNAME:CDT
END:DAYLIGHT
END:VTIMEZONE
END:VCALENDAR