BEGIN:VCALENDAR
VERSION:2.0
PRODID:-//wp-events-plugin.com//7.2.3.1//EN
TZID:America/Chicago
X-WR-TIMEZONE:America/Chicago
BEGIN:VEVENT
UID:313@runbeerrepeat.com
DTSTART;TZID=America/Chicago:20250731T183000
DTEND;TZID=America/Chicago:20250731T190000
DTSTAMP:20250223T225310Z
URL:https://runbeerrepeat.com/events/birches-on-the-lake-2/
SUMMARY:Birches on the Lake
DESCRIPTION:Join us at Birches on the Lake in Long Lake for an awesome run!
  Come join us for a 30-minute out-and-back run\, followed by some great be
 er! We will meet at 6:20pm in the front of the facility and will start our
  run at 6:30 sharp so please plan to get there and parked on time. After o
 ur 30-minute run we’ll meet back at Birches for a post-run beverage! If 
 you are joining us\, make sure to RSVP on the website at or the Facebook E
 vent RBR Facebook Events.
CATEGORIES:Club Runs
LOCATION:Birches on the Lake\, 1310 W Wayzata Blvd\, Long Lake\, MN\, 55356
 \, United States
GEO:44.985345;-93.557004
X-APPLE-STRUCTURED-LOCATION;VALUE=URI;X-ADDRESS=1310 W Wayzata Blvd\, Long 
 Lake\, MN\, 55356\, United States;X-APPLE-RADIUS=100;X-TITLE=Birches on th
 e Lake:geo:44.985345,-93.557004
END:VEVENT
BEGIN:VTIMEZONE
TZID:America/Chicago
X-LIC-LOCATION:America/Chicago
BEGIN:DAYLIGHT
DTSTART:20250309T030000
TZOFFSETFROM:-0600
TZOFFSETTO:-0500
TZNAME:CDT
END:DAYLIGHT
END:VTIMEZONE
END:VCALENDAR