BEGIN:VCALENDAR
VERSION:2.0
PRODID:-//wp-events-plugin.com//7.2.3.1//EN
TZID:America/Chicago
X-WR-TIMEZONE:America/Chicago
BEGIN:VEVENT
UID:227@runbeerrepeat.com
DTSTART;TZID=America/Chicago:20220929T183000
DTEND;TZID=America/Chicago:20220929T203000
DTSTAMP:20220929T223755Z
URL:https://runbeerrepeat.com/events/birches-on-the-lake/
SUMMARY:Birches On The Lake
DESCRIPTION:Our run for September 29th will be from Birches on the Lake
CATEGORIES:Club Runs
LOCATION:Birches on the Lake\, 1310 W Wayzata Blvd\, Long Lake\, MN\, 55356
 \, United States
GEO:44.985345;-93.557004
X-APPLE-STRUCTURED-LOCATION;VALUE=URI;X-ADDRESS=1310 W Wayzata Blvd\, Long 
 Lake\, MN\, 55356\, United States;X-APPLE-RADIUS=100;X-TITLE=Birches on th
 e Lake:geo:44.985345,-93.557004
END:VEVENT
BEGIN:VTIMEZONE
TZID:America/Chicago
X-LIC-LOCATION:America/Chicago
BEGIN:DAYLIGHT
DTSTART:20220313T030000
TZOFFSETFROM:-0600
TZOFFSETTO:-0500
TZNAME:CDT
END:DAYLIGHT
END:VTIMEZONE
END:VCALENDAR