BEGIN:VCALENDAR
VERSION:2.0
PRODID:-//wp-events-plugin.com//7.2.3.1//EN
TZID:America/Chicago
X-WR-TIMEZONE:America/Chicago
BEGIN:VEVENT
UID:245@runbeerrepeat.com
DTSTART;TZID=America/Chicago:20230504T182000
DTEND;TZID=America/Chicago:20230504T213000
DTSTAMP:20230504T211631Z
URL:https://runbeerrepeat.com/events/blackstack-brewing/
SUMMARY:May 4th run changed to Dangerous Man Brewing
DESCRIPTION:Join Run Beer Repeat in St. Paul at Black Stack Brewing Minneap
 olis at Dangerous Man Brewing for our 1st May run. We'll be celebrating Ma
 y the Fourth\, so come dressed appropriately.  The group meets at 6:20 ne
 ar the front of the brewery\, then takes off for a 30 minute run or walk a
 t 6:30. We will head out for 15 minutes\, then turn around and head back t
 o the brewery to enjoy some beers together! All paces are welcome!\n\nSorr
 y for the last minute change\, but Black Stack Brewing is closed for a pri
 vate event.
CATEGORIES:Club Runs
LOCATION:Dangerous Man Brewing\, 1300 2nd Street NE\, Minneapolis\, MN\, 55
 413\, United States
GEO:45.0010936;-93.26636910000002
X-APPLE-STRUCTURED-LOCATION;VALUE=URI;X-ADDRESS=1300 2nd Street NE\, Minnea
 polis\, MN\, 55413\, United States;X-APPLE-RADIUS=100;X-TITLE=Dangerous Ma
 n Brewing:geo:45.0010936,-93.26636910000002
END:VEVENT
BEGIN:VTIMEZONE
TZID:America/Chicago
X-LIC-LOCATION:America/Chicago
BEGIN:DAYLIGHT
DTSTART:20230312T030000
TZOFFSETFROM:-0600
TZOFFSETTO:-0500
TZNAME:CDT
END:DAYLIGHT
END:VTIMEZONE
END:VCALENDAR