BEGIN:VCALENDAR
VERSION:2.0
PRODID:-//wp-events-plugin.com//7.2.3.1//EN
TZID:America/Chicago
X-WR-TIMEZONE:America/Chicago
BEGIN:VEVENT
UID:198@runbeerrepeat.com
DTSTART;TZID=America/Chicago:20210930T183000
DTEND;TZID=America/Chicago:20210930T203000
DTSTAMP:20210928T190344Z
URL:https://runbeerrepeat.com/events/bonus-run-for-september-30th/
SUMMARY:BONUS Run for September 30th
DESCRIPTION:Our BONUS run for September 30th will be from Invictus Brewing 
 in Blaine
CATEGORIES:Club Runs
LOCATION:Invictus Brewing\, 2025 105th Ave NE\, Blaine\, MN\, 55449\, Unite
 d States
X-APPLE-STRUCTURED-LOCATION;VALUE=URI;X-ADDRESS=2025 105th Ave NE\, Blaine\
 , MN\, 55449\, United States;X-APPLE-RADIUS=100;X-TITLE=Invictus Brewing:g
 eo:0,0
END:VEVENT
BEGIN:VTIMEZONE
TZID:America/Chicago
X-LIC-LOCATION:America/Chicago
BEGIN:DAYLIGHT
DTSTART:20210314T030000
TZOFFSETFROM:-0600
TZOFFSETTO:-0500
TZNAME:CDT
END:DAYLIGHT
END:VTIMEZONE
END:VCALENDAR