BEGIN:VCALENDAR
VERSION:2.0
PRODID:-//wp-events-plugin.com//7.2.3.1//EN
TZID:America/Chicago
X-WR-TIMEZONE:America/Chicago
BEGIN:VEVENT
UID:284@runbeerrepeat.com
DTSTART;TZID=America/Chicago:20240718T182000
DTEND;TZID=America/Chicago:20240718T203000
DTSTAMP:20231201T030418Z
URL:https://runbeerrepeat.com/events/boom-island-brewing-company-on-thursd
 ay-july-18th/
SUMMARY:Boom Island Brewing Company on Thursday July 18th
DESCRIPTION:Join us in Minnetonka at Boom Island Brewing Company for our 2n
 d July run. The group meets at 6:20 near the front of the brewery. We head
  out at 6:30 for a run or walk for 15 minutes\, then turn around and come 
 back to socialize and drink some delicious beverages.  All running or wal
 king paces are welcome!
CATEGORIES:Club Runs
LOCATION:Boom Island\, 5959 Baker Rd Suite 320\, Minnetonka\, MN\, 55345\, 
 United States
X-APPLE-STRUCTURED-LOCATION;VALUE=URI;X-ADDRESS=5959 Baker Rd Suite 320\, M
 innetonka\, MN\, 55345\, United States;X-APPLE-RADIUS=100;X-TITLE=Boom Isl
 and:geo:0,0
END:VEVENT
BEGIN:VTIMEZONE
TZID:America/Chicago
X-LIC-LOCATION:America/Chicago
BEGIN:DAYLIGHT
DTSTART:20240310T030000
TZOFFSETFROM:-0600
TZOFFSETTO:-0500
TZNAME:CDT
END:DAYLIGHT
END:VTIMEZONE
END:VCALENDAR