BEGIN:VCALENDAR
VERSION:2.0
PRODID:-//wp-events-plugin.com//7.2.3.1//EN
TZID:America/Chicago
X-WR-TIMEZONE:America/Chicago
BEGIN:VEVENT
UID:268@runbeerrepeat.com
DTSTART;TZID=America/Chicago:20231221T182000
DTEND;TZID=America/Chicago:20231221T203000
DTSTAMP:20231201T022639Z
URL:https://runbeerrepeat.com/events/broken-clock-brewing-cooperative-on-t
 hursday-december-21st-ugly-sweater-run/
SUMMARY:Broken Clock Brewing Cooperative on Thursday December 21st - Ugly S
 weater Run
DESCRIPTION:Join us in Minneapolis at Broken Clock Brewing Cooperative for 
 our 2nd December run. This is our Ugly Sweater Holiday Celebration! The gr
 oup meets at 6:20 near the front of the brewery. We head out at 6:30 for a
  run or walk for 15 minutes\, then turn around and come back to socialize 
 and drink some delicious beverages.  All running or walking paces are wel
 come! Reflective gear and lights are highly recommended.
CATEGORIES:Club Runs
LOCATION:Broken Clock Brewing Cooperative\, 1712 Marshall St NE Suite 100\,
  Minneapolis\, MN\, 55413\, United States
X-APPLE-STRUCTURED-LOCATION;VALUE=URI;X-ADDRESS=1712 Marshall St NE Suite 1
 00\, Minneapolis\, MN\, 55413\, United States;X-APPLE-RADIUS=100;X-TITLE=B
 roken Clock Brewing Cooperative:geo:0,0
END:VEVENT
BEGIN:VTIMEZONE
TZID:America/Chicago
X-LIC-LOCATION:America/Chicago
BEGIN:STANDARD
DTSTART:20231105T010000
TZOFFSETFROM:-0500
TZOFFSETTO:-0600
TZNAME:CST
END:STANDARD
END:VTIMEZONE
END:VCALENDAR