BEGIN:VCALENDAR
VERSION:2.0
PRODID:-//wp-events-plugin.com//7.2.3.1//EN
TZID:America/Chicago
X-WR-TIMEZONE:America/Chicago
BEGIN:VEVENT
UID:265@runbeerrepeat.com
DTSTART;TZID=America/Chicago:20231118T120000
DTEND;TZID=America/Chicago:20231118T143000
DTSTAMP:20231031T001152Z
URL:https://runbeerrepeat.com/events/broken-clock-on-november-18th-plannin
 g-meeting/
SUMMARY:Broken Clock on November 18th (Planning Meeting)
DESCRIPTION:Want to help decide which locations we visit for the first half
  of 2024? Come join us at our planning meeting at 1 PM at Broken Clock Bre
 wing in Minneapolis. There is a group run starting at noon before the meet
 ing that anyone is welcome to join as well.
CATEGORIES:Club Runs
LOCATION:Broken Clock Brewing Cooperative\, 1712 Marshall St NE Suite 100\,
  Minneapolis\, MN\, 55413\, United States
X-APPLE-STRUCTURED-LOCATION;VALUE=URI;X-ADDRESS=1712 Marshall St NE Suite 1
 00\, Minneapolis\, MN\, 55413\, United States;X-APPLE-RADIUS=100;X-TITLE=B
 roken Clock Brewing Cooperative:geo:0,0
END:VEVENT
BEGIN:VTIMEZONE
TZID:America/Chicago
X-LIC-LOCATION:America/Chicago
BEGIN:STANDARD
DTSTART:20231105T010000
TZOFFSETFROM:-0500
TZOFFSETTO:-0600
TZNAME:CST
END:STANDARD
END:VTIMEZONE
END:VCALENDAR