BEGIN:VCALENDAR
VERSION:2.0
PRODID:-//wp-events-plugin.com//7.2.3.1//EN
TZID:America/Chicago
X-WR-TIMEZONE:America/Chicago
BEGIN:VEVENT
UID:64@runbeerrepeat.com
DTSTART;TZID=America/Chicago:20161215T183000
DTEND;TZID=America/Chicago:20161215T200000
DTSTAMP:20161110T015430Z
URL:https://runbeerrepeat.com/events/december-15th-run/
SUMMARY:December 15th Run
DESCRIPTION:Join us for our December 15th run at the Muddy Pig in St Paul.
CATEGORIES:Club Runs
LOCATION:The Muddy Pig\, 162 North Dale Street\, St Paul\, MN\, 55102\, Uni
 ted States
GEO:44.9462853;-93.12605559999997
X-APPLE-STRUCTURED-LOCATION;VALUE=URI;X-ADDRESS=162 North Dale Street\, St 
 Paul\, MN\, 55102\, United States;X-APPLE-RADIUS=100;X-TITLE=The Muddy Pig
 :geo:44.9462853,-93.12605559999997
END:VEVENT
BEGIN:VTIMEZONE
TZID:America/Chicago
X-LIC-LOCATION:America/Chicago
BEGIN:STANDARD
DTSTART:20161106T010000
TZOFFSETFROM:-0500
TZOFFSETTO:-0600
TZNAME:CST
END:STANDARD
END:VTIMEZONE
END:VCALENDAR