BEGIN:VCALENDAR
VERSION:2.0
PRODID:-//wp-events-plugin.com//7.2.3.1//EN
TZID:America/Chicago
X-WR-TIMEZONE:America/Chicago
BEGIN:VEVENT
UID:159@runbeerrepeat.com
DTSTART;TZID=America/Chicago:20191219T183000
DTEND;TZID=America/Chicago:20191219T203000
DTSTAMP:20191015T173954Z
URL:https://runbeerrepeat.com/events/december-19th-run/
SUMMARY:December 19th Run
DESCRIPTION:Our run for December 19th will be from Lakes and Legends in Min
 neapolis
CATEGORIES:Club Runs
LOCATION:Lakes and Legends\, 1368 Lasalle Ave\, Minneapolis\, MN\, 55403\, 
 United States
X-APPLE-STRUCTURED-LOCATION;VALUE=URI;X-ADDRESS=1368 Lasalle Ave\, Minneapo
 lis\, MN\, 55403\, United States;X-APPLE-RADIUS=100;X-TITLE=Lakes and Lege
 nds:geo:0,0
END:VEVENT
BEGIN:VTIMEZONE
TZID:America/Chicago
X-LIC-LOCATION:America/Chicago
BEGIN:STANDARD
DTSTART:20191103T010000
TZOFFSETFROM:-0500
TZOFFSETTO:-0600
TZNAME:CST
END:STANDARD
END:VTIMEZONE
END:VCALENDAR