BEGIN:VCALENDAR
VERSION:2.0
PRODID:-//wp-events-plugin.com//7.2.3.1//EN
TZID:America/Chicago
X-WR-TIMEZONE:America/Chicago
BEGIN:VEVENT
UID:95@runbeerrepeat.com
DTSTART;TZID=America/Chicago:20171221T183000
DTEND;TZID=America/Chicago:20171221T200000
DTSTAMP:20171205T161114Z
URL:https://runbeerrepeat.com/events/december-21st-run/
SUMMARY:December 21st Run
DESCRIPTION:Our run for the 3rd Thursday of December will be from InBound B
 rew Co. in Minneapolis.
CATEGORIES:Club Runs
LOCATION:InBound Brew Co\, 701 N 5th St\, Minneapolis\, MN\, 55401\, United
  States
GEO:44.985554;-93.28155300000003
X-APPLE-STRUCTURED-LOCATION;VALUE=URI;X-ADDRESS=701 N 5th St\, Minneapolis\
 , MN\, 55401\, United States;X-APPLE-RADIUS=100;X-TITLE=InBound Brew Co:ge
 o:44.985554,-93.28155300000003
END:VEVENT
BEGIN:VTIMEZONE
TZID:America/Chicago
X-LIC-LOCATION:America/Chicago
BEGIN:STANDARD
DTSTART:20171105T010000
TZOFFSETFROM:-0500
TZOFFSETTO:-0600
TZNAME:CST
END:STANDARD
END:VTIMEZONE
END:VCALENDAR