BEGIN:VCALENDAR
VERSION:2.0
PRODID:-//wp-events-plugin.com//7.2.3.1//EN
TZID:America/Chicago
X-WR-TIMEZONE:America/Chicago
BEGIN:VEVENT
UID:206@runbeerrepeat.com
DTSTART;TZID=America/Chicago:20211230T183000
DTEND;TZID=America/Chicago:20211230T203000
DTSTAMP:20211129T152919Z
URL:https://runbeerrepeat.com/events/december-30th-bonus-run/
SUMMARY:December 30th BONUS Run
DESCRIPTION:We will be having a BONUS run on December 30th at Bricksworth B
 eer Co. in Burnsville
CATEGORIES:Club Runs
LOCATION:Bricksworth Beer Company\, 12257B Nicollet Ave. South\, Burnsville
 \, MN\, 55337\, United States
X-APPLE-STRUCTURED-LOCATION;VALUE=URI;X-ADDRESS=12257B Nicollet Ave. South\
 , Burnsville\, MN\, 55337\, United States;X-APPLE-RADIUS=100;X-TITLE=Brick
 sworth Beer Company:geo:0,0
END:VEVENT
BEGIN:VTIMEZONE
TZID:America/Chicago
X-LIC-LOCATION:America/Chicago
BEGIN:STANDARD
DTSTART:20211107T010000
TZOFFSETFROM:-0500
TZOFFSETTO:-0600
TZNAME:CST
END:STANDARD
END:VTIMEZONE
END:VCALENDAR