BEGIN:VCALENDAR
VERSION:2.0
PRODID:-//wp-events-plugin.com//7.2.3.1//EN
TZID:America/Chicago
X-WR-TIMEZONE:America/Chicago
BEGIN:VEVENT
UID:161@runbeerrepeat.com
DTSTART;TZID=America/Chicago:20191205T183000
DTEND;TZID=America/Chicago:20191205T203000
DTSTAMP:20191127T173154Z
URL:https://runbeerrepeat.com/events/december-5th-run/
SUMMARY:December 5th Run
DESCRIPTION:Our run for Dec 5th will be from Birches Lowertown in St Paul. 
 Meet inside the Broadway Street door at the entrance facing CHS field.
CATEGORIES:Club Runs
LOCATION:Birches Lowertown\, 289 5th St E\, St. Paul\, MN\, 55101\, United 
 States
GEO:44.9503857;-93.08560339999997
X-APPLE-STRUCTURED-LOCATION;VALUE=URI;X-ADDRESS=289 5th St E\, St. Paul\, M
 N\, 55101\, United States;X-APPLE-RADIUS=100;X-TITLE=Birches Lowertown:geo
 :44.9503857,-93.08560339999997
END:VEVENT
BEGIN:VTIMEZONE
TZID:America/Chicago
X-LIC-LOCATION:America/Chicago
BEGIN:STANDARD
DTSTART:20191103T010000
TZOFFSETFROM:-0500
TZOFFSETTO:-0600
TZNAME:CST
END:STANDARD
END:VTIMEZONE
END:VCALENDAR