BEGIN:VCALENDAR
VERSION:2.0
PRODID:-//wp-events-plugin.com//7.2.3.1//EN
TZID:America/Chicago
X-WR-TIMEZONE:America/Chicago
BEGIN:VEVENT
UID:185@runbeerrepeat.com
DTSTART;TZID=America/Chicago:20201203T190000
DTEND;TZID=America/Chicago:20201203T210000
DTSTAMP:20201201T164125Z
URL:https://runbeerrepeat.com/events/december-virtual-hangout/
SUMMARY:December Virtual Hangout
DESCRIPTION:December Virtual Hangout\n\nZoom Meeting Link\n\nMeeting ID: 91
 0 7565 1509\nPasscode: 321807\nDial-in: 1-312-626-6799
CATEGORIES:Club Runs
LOCATION:https://carnegielearning.zoom.us/j/91075651509?pwd=eU4yLzQyb2JwSmV
 mK09icTRKV2lCZz09
END:VEVENT
BEGIN:VTIMEZONE
TZID:America/Chicago
X-LIC-LOCATION:America/Chicago
BEGIN:STANDARD
DTSTART:20201101T010000
TZOFFSETFROM:-0500
TZOFFSETTO:-0600
TZNAME:CST
END:STANDARD
END:VTIMEZONE
END:VCALENDAR