BEGIN:VCALENDAR
VERSION:2.0
PRODID:-//wp-events-plugin.com//7.2.3.1//EN
TZID:America/Chicago
X-WR-TIMEZONE:America/Chicago
BEGIN:VEVENT
UID:205@runbeerrepeat.com
DTSTART;TZID=America/Chicago:20211216T183000
DTEND;TZID=America/Chicago:20211216T203000
DTSTAMP:20211112T213940Z
URL:https://runbeerrepeat.com/events/decemer-16th-run/
SUMMARY:Decemer 16th Run
DESCRIPTION:Our run for December 16th will be from Barrel Theory. Club memb
 er Todd is having an after-party at his condo right next door after! Detai
 ls at the run!
CATEGORIES:Club Runs
LOCATION:Barrel Theory Beer Co\, 248 7th St E\, St Paul\, MN\, 55101\, Unit
 ed States
GEO:44.9509264;-93.08819069999998
X-APPLE-STRUCTURED-LOCATION;VALUE=URI;X-ADDRESS=248 7th St E\, St Paul\, MN
 \, 55101\, United States;X-APPLE-RADIUS=100;X-TITLE=Barrel Theory Beer Co:
 geo:44.9509264,-93.08819069999998
END:VEVENT
BEGIN:VTIMEZONE
TZID:America/Chicago
X-LIC-LOCATION:America/Chicago
BEGIN:STANDARD
DTSTART:20211107T010000
TZOFFSETFROM:-0500
TZOFFSETTO:-0600
TZNAME:CST
END:STANDARD
END:VTIMEZONE
END:VCALENDAR