BEGIN:VCALENDAR
VERSION:2.0
PRODID:-//wp-events-plugin.com//7.2.3.1//EN
TZID:America/Chicago
X-WR-TIMEZONE:America/Chicago
BEGIN:VEVENT
UID:348@runbeerrepeat.com
DTSTART;TZID=America/Chicago:20261029T183000
DTEND;TZID=America/Chicago:20261029T190000
DTSTAMP:20260402T222956Z
URL:https://runbeerrepeat.com/events/elm-creek-brewing-co/
SUMMARY:Elm Creek Brewing Co.
DESCRIPTION:Join us at Elm Creek Brewing Co. in Champlin for an awesome run
 ! Come join us for a 30-minute out-and-back run\, followed by some great b
 eer! We will meet at 6:20pm in the front of the facility and will start ou
 r run at 6:30 sharp so please plan to get there and parked on time. After 
 our 30-minute run we’ll meet back at Elm Creek for a post-run beverage! 
 If you are joining us\, make sure to RSVP on the website at or the Faceboo
 k Event RBR Facebook Events.
CATEGORIES:Club Runs
LOCATION:Elm Creek Brewing Co.\, 11469 Marketplace Dr N\, Champlin\, MN\, 5
 5316\, United States
X-APPLE-STRUCTURED-LOCATION;VALUE=URI;X-ADDRESS=11469 Marketplace Dr N\, Ch
 amplin\, MN\, 55316\, United States;X-APPLE-RADIUS=100;X-TITLE=Elm Creek B
 rewing Co.:geo:0,0
END:VEVENT
BEGIN:VTIMEZONE
TZID:America/Chicago
X-LIC-LOCATION:America/Chicago
BEGIN:DAYLIGHT
DTSTART:20260308T030000
TZOFFSETFROM:-0600
TZOFFSETTO:-0500
TZNAME:CDT
END:DAYLIGHT
END:VTIMEZONE
END:VCALENDAR