BEGIN:VCALENDAR
VERSION:2.0
PRODID:-//wp-events-plugin.com//7.2.3.1//EN
TZID:America/Chicago
X-WR-TIMEZONE:America/Chicago
BEGIN:VEVENT
UID:267@runbeerrepeat.com
DTSTART;TZID=America/Chicago:20231207T182000
DTEND;TZID=America/Chicago:20231207T203000
DTSTAMP:20231201T022702Z
URL:https://runbeerrepeat.com/events/fair-state-brewing-cooperative-on-thu
 rsday-december-7th/
SUMMARY:Fair State Brewing Cooperative on Thursday December 7th
DESCRIPTION:Join us in Minneapolis at Fair State Brewing Cooperative for ou
 r 1st December run. The group meets at 6:20 near the front of the brewery.
  We head out at 6:30 for a run or walk for 15 minutes\, then turn around a
 nd come back to socialize and drink some delicious beverages.  All runnin
 g or walking paces are welcome! Reflective gear and lights are highly reco
 mmended.
CATEGORIES:Club Runs
LOCATION:Fair State Brewing Cooperative\, 2506 Central Ave NE\, Minneapolis
 \, MN\, 55418\, United States
GEO:45.0135573;-93.2477591
X-APPLE-STRUCTURED-LOCATION;VALUE=URI;X-ADDRESS=2506 Central Ave NE\, Minne
 apolis\, MN\, 55418\, United States;X-APPLE-RADIUS=100;X-TITLE=Fair State 
 Brewing Cooperative:geo:45.0135573,-93.2477591
END:VEVENT
BEGIN:VTIMEZONE
TZID:America/Chicago
X-LIC-LOCATION:America/Chicago
BEGIN:STANDARD
DTSTART:20231105T010000
TZOFFSETFROM:-0500
TZOFFSETTO:-0600
TZNAME:CST
END:STANDARD
END:VTIMEZONE
END:VCALENDAR