BEGIN:VCALENDAR
VERSION:2.0
PRODID:-//wp-events-plugin.com//7.2.3.1//EN
TZID:America/Chicago
X-WR-TIMEZONE:America/Chicago
BEGIN:VEVENT
UID:323@runbeerrepeat.com
DTSTART;TZID=America/Chicago:20251204T183000
DTEND;TZID=America/Chicago:20251204T190000
DTSTAMP:20250912T171213Z
URL:https://runbeerrepeat.com/events/falling-knife-brewing-company/
SUMMARY:Falling Knife Brewing Company
DESCRIPTION:Join us at Falling Knife Brewing Company in Minneapolis for an 
 awesome run! Come join us for a 30-minute out-and-back run\, followed by s
 ome great beer! We will meet at 6:20pm in the front of the facility and wi
 ll start our run at 6:30 sharp so please plan to get there and parked on t
 ime. After our 30-minute run we’ll meet back at Falling Knife for a post
 -run beverage! If you are joining us\, make sure to RSVP on the website at
  or the Facebook Event RBR Facebook Events.
CATEGORIES:Club Runs
LOCATION:Falling Knife Brewing\, 783 Harding St NE\, Minneapolis\, MN\, 554
 13\, United States
X-APPLE-STRUCTURED-LOCATION;VALUE=URI;X-ADDRESS=783 Harding St NE\, Minneap
 olis\, MN\, 55413\, United States;X-APPLE-RADIUS=100;X-TITLE=Falling Knife
  Brewing:geo:0,0
END:VEVENT
BEGIN:VTIMEZONE
TZID:America/Chicago
X-LIC-LOCATION:America/Chicago
BEGIN:STANDARD
DTSTART:20251102T010000
TZOFFSETFROM:-0500
TZOFFSETTO:-0600
TZNAME:CST
END:STANDARD
END:VTIMEZONE
END:VCALENDAR