BEGIN:VCALENDAR
VERSION:2.0
PRODID:-//wp-events-plugin.com//7.2.3.1//EN
TZID:America/Chicago
X-WR-TIMEZONE:America/Chicago
BEGIN:VEVENT
UID:262@runbeerrepeat.com
DTSTART;TZID=America/Chicago:20231026T182000
DTEND;TZID=America/Chicago:20231026T210000
DTSTAMP:20230920T231420Z
URL:https://runbeerrepeat.com/events/falling-knife-brewing-halloween-run-o
 n-october-26th/
SUMMARY:Falling Knife Brewing (Halloween Run) on October 26th
DESCRIPTION:Join us in Minneapolis at Falling Knife Brewing Company for a b
 onus run. There will be a costume contest for anyone who is interested. Th
 e group meets at 6:20 near the front of the brewery. We head out from the 
 brewery at 6:30 for a run or walk for 15 minutes\, then turn around and co
 me back to socialize and drink some delicious beverages.  All running or 
 walking paces are welcome!
CATEGORIES:Club Runs
LOCATION:Falling Knife Brewing\, 783 Harding St NE\, Minneapolis\, MN\, 554
 13\, United States
X-APPLE-STRUCTURED-LOCATION;VALUE=URI;X-ADDRESS=783 Harding St NE\, Minneap
 olis\, MN\, 55413\, United States;X-APPLE-RADIUS=100;X-TITLE=Falling Knife
  Brewing:geo:0,0
END:VEVENT
BEGIN:VTIMEZONE
TZID:America/Chicago
X-LIC-LOCATION:America/Chicago
BEGIN:DAYLIGHT
DTSTART:20230312T030000
TZOFFSETFROM:-0600
TZOFFSETTO:-0500
TZNAME:CDT
END:DAYLIGHT
END:VTIMEZONE
END:VCALENDAR