BEGIN:VCALENDAR
VERSION:2.0
PRODID:-//wp-events-plugin.com//7.2.3.1//EN
TZID:America/Chicago
X-WR-TIMEZONE:America/Chicago
BEGIN:VEVENT
UID:304@runbeerrepeat.com
DTSTART;TZID=America/Chicago:20250417T183000
DTEND;TZID=America/Chicago:20250417T190000
DTSTAMP:20241220T223018Z
URL:https://runbeerrepeat.com/events/fat-pants-brewing-co/
SUMMARY:Indeed Brewing Company
DESCRIPTION:Join us at Indeed Brewing Company in Minneapolis for an awesome
  run! Come join us for a 30-minute out-and-back run\, followed by some gre
 at beer! We will meet at 6:20pm in the front of the facility and will star
 t our run at 6:30 sharp so please plan to get there and parked on time. Af
 ter our 30-minute run we'll meet back at Indeed for a post-run beverage! I
 f you are joining us\, make sure to RSVP on the website at or the Facebook
  Event RBR Facebook Events.
CATEGORIES:Club Runs
LOCATION:Indeed Brewing Company\, 711 15th Avenue NE\, Minneapolis\, MN\, 5
 5413\, United States
X-APPLE-STRUCTURED-LOCATION;VALUE=URI;X-ADDRESS=711 15th Avenue NE\, Minnea
 polis\, MN\, 55413\, United States;X-APPLE-RADIUS=100;X-TITLE=Indeed Brewi
 ng Company:geo:0,0
END:VEVENT
BEGIN:VTIMEZONE
TZID:America/Chicago
X-LIC-LOCATION:America/Chicago
BEGIN:DAYLIGHT
DTSTART:20250309T030000
TZOFFSETFROM:-0600
TZOFFSETTO:-0500
TZNAME:CDT
END:DAYLIGHT
END:VTIMEZONE
END:VCALENDAR