BEGIN:VCALENDAR
VERSION:2.0
PRODID:-//wp-events-plugin.com//7.2.3.1//EN
TZID:America/Chicago
X-WR-TIMEZONE:America/Chicago
BEGIN:VEVENT
UID:15@runbeerrepeat.com
DTSTART;TZID=America/Chicago:20150219T183000
DTEND;TZID=America/Chicago:20150219T200000
DTSTAMP:20150206T165957Z
URL:https://runbeerrepeat.com/events/february-19th-run/
SUMMARY:February 19th Run
DESCRIPTION:Come run with us! This is our winter schedule run for February 
 2015. We will meet at 6:20pm and run at 6:30 sharp. We will meet inside at
  LynnLake Brewery in Minneapolis After about a thirty minute run along the
  Minneapolis Greenway\, we will grab an after-run beer back at LynnLake.
CATEGORIES:Club Runs
LOCATION:LynLake Brewery\, 2934 Lyndale Avenue South\, Minneapolis\, MN\, 5
 5408\, United States
GEO:44.948899;-93.28850899999998
X-APPLE-STRUCTURED-LOCATION;VALUE=URI;X-ADDRESS=2934 Lyndale Avenue South\,
  Minneapolis\, MN\, 55408\, United States;X-APPLE-RADIUS=100;X-TITLE=LynLa
 ke Brewery:geo:44.948899,-93.28850899999998
END:VEVENT
BEGIN:VTIMEZONE
TZID:America/Chicago
X-LIC-LOCATION:America/Chicago
BEGIN:STANDARD
DTSTART:20141102T010000
TZOFFSETFROM:-0500
TZOFFSETTO:-0600
TZNAME:CST
END:STANDARD
END:VTIMEZONE
END:VCALENDAR