BEGIN:VCALENDAR
VERSION:2.0
PRODID:-//wp-events-plugin.com//7.2.3.1//EN
TZID:America/Chicago
X-WR-TIMEZONE:America/Chicago
BEGIN:VEVENT
UID:41@runbeerrepeat.com
DTSTART;TZID=America/Chicago:20160206T120000
DTEND;TZID=America/Chicago:20160206T150000
DTSTAMP:20160119T031019Z
URL:https://runbeerrepeat.com/events/february-6th-run-roadtrip/
SUMMARY:February 6th Run - ROADTRIP!
DESCRIPTION:Our 1st out-of-town road trip run. We will be running from Barl
 ey John's Brewing Company in New Richmond\, WI
ATTACH;FMTTYPE=image/jpeg:https://s3.amazonaws.com/storage.runbeerrepeat.c
 om/2019/06/BJB_Logo_3Color_Final_tn.jpg
CATEGORIES:Club Runs
LOCATION:Barley John's Brewing Company\, 1280 Madison Ave\, New Richmond\, 
 WI\, 54017\, United States
GEO:45.104706;-92.5498452
X-APPLE-STRUCTURED-LOCATION;VALUE=URI;X-ADDRESS=1280 Madison Ave\, New Rich
 mond\, WI\, 54017\, United States;X-APPLE-RADIUS=100;X-TITLE=Barley John's
  Brewing Company:geo:45.104706,-92.5498452
END:VEVENT
BEGIN:VTIMEZONE
TZID:America/Chicago
X-LIC-LOCATION:America/Chicago
BEGIN:STANDARD
DTSTART:20151101T010000
TZOFFSETFROM:-0500
TZOFFSETTO:-0600
TZNAME:CST
END:STANDARD
END:VTIMEZONE
END:VCALENDAR