BEGIN:VCALENDAR
VERSION:2.0
PRODID:-//wp-events-plugin.com//7.2.3.1//EN
TZID:America/Chicago
X-WR-TIMEZONE:America/Chicago
BEGIN:VEVENT
UID:165@runbeerrepeat.com
DTSTART;TZID=America/Chicago:20200206T183000
DTEND;TZID=America/Chicago:20200206T203000
DTSTAMP:20191127T174053Z
URL:https://runbeerrepeat.com/events/february-6th-run/
SUMMARY:February 6th Run
DESCRIPTION:Our run for February 6th will be from Forgotten Star Brewing in
  Fridley
CATEGORIES:Club Runs
LOCATION:Forgotten Star Brewing\, 38 Northern Stacks Dr\, Fridley\, MN\, 55
 421\, United States
X-APPLE-STRUCTURED-LOCATION;VALUE=URI;X-ADDRESS=38 Northern Stacks Dr\, Fri
 dley\, MN\, 55421\, United States;X-APPLE-RADIUS=100;X-TITLE=Forgotten Sta
 r Brewing:geo:0,0
END:VEVENT
BEGIN:VTIMEZONE
TZID:America/Chicago
X-LIC-LOCATION:America/Chicago
BEGIN:STANDARD
DTSTART:20191103T010000
TZOFFSETFROM:-0500
TZOFFSETTO:-0600
TZNAME:CST
END:STANDARD
END:VTIMEZONE
END:VCALENDAR