BEGIN:VCALENDAR
VERSION:2.0
PRODID:-//wp-events-plugin.com//7.2.3.1//EN
TZID:America/Chicago
X-WR-TIMEZONE:America/Chicago
BEGIN:VEVENT
UID:254@runbeerrepeat.com
DTSTART;TZID=America/Chicago:20230803T182000
DTEND;TZID=America/Chicago:20230803T203000
DTSTAMP:20230706T001423Z
URL:https://runbeerrepeat.com/events/forgotten-start-brewing-on-august-3rd
 /
SUMMARY:Forgotten Start Brewing on August 3rd
DESCRIPTION:Join us in Fridley at Forgotten Star Brewing for our 1st August
  run. The group meets at 6:20 near the front of the brewery. We head out f
 rom the brewery at 6:30 for a run or walk for 15 minutes\, then turn aroun
 d and come back to socialize and drink some delicious beverages.  All run
 ning or walking paces are welcome!
CATEGORIES:Club Runs
LOCATION:Forgotten Star Brewing\, 38 Northern Stacks Dr\, Fridley\, MN\, 55
 421\, United States
X-APPLE-STRUCTURED-LOCATION;VALUE=URI;X-ADDRESS=38 Northern Stacks Dr\, Fri
 dley\, MN\, 55421\, United States;X-APPLE-RADIUS=100;X-TITLE=Forgotten Sta
 r Brewing:geo:0,0
END:VEVENT
BEGIN:VTIMEZONE
TZID:America/Chicago
X-LIC-LOCATION:America/Chicago
BEGIN:DAYLIGHT
DTSTART:20230312T030000
TZOFFSETFROM:-0600
TZOFFSETTO:-0500
TZNAME:CDT
END:DAYLIGHT
END:VTIMEZONE
END:VCALENDAR