BEGIN:VCALENDAR
VERSION:2.0
PRODID:-//wp-events-plugin.com//7.2.3.1//EN
TZID:America/Chicago
X-WR-TIMEZONE:America/Chicago
BEGIN:VEVENT
UID:325@runbeerrepeat.com
DTSTART;TZID=America/Chicago:20260108T183000
DTEND;TZID=America/Chicago:20260108T190000
DTSTAMP:20260109T012728Z
URL:https://runbeerrepeat.com/events/gambit-brewing-co/
SUMMARY:Gambit Brewing Co
DESCRIPTION:Join us at Gambit Brewing Co in St Paul for an awesome run! Com
 e join us for a 30-minute out-and-back run\, followed by some great beer! 
 We will meet at 6:20pm in the front of the facility and will start our run
  at 6:30 sharp so please plan to get there and parked on time. After our 3
 0-minute run we’ll meet back at Gambit for a post-run beverage! If you a
 re joining us\, make sure to RSVP on the website at or the Facebook Event 
 RBR Facebook Events.
CATEGORIES:Club Runs
LOCATION:Gambit Brewing\, 141 4th St E Suite LL2\, St Paul\, MN\, 55101\, U
 nited States
X-APPLE-STRUCTURED-LOCATION;VALUE=URI;X-ADDRESS=141 4th St E Suite LL2\, St
  Paul\, MN\, 55101\, United States;X-APPLE-RADIUS=100;X-TITLE=Gambit Brewi
 ng:geo:0,0
END:VEVENT
BEGIN:VTIMEZONE
TZID:America/Chicago
X-LIC-LOCATION:America/Chicago
BEGIN:STANDARD
DTSTART:20251102T010000
TZOFFSETFROM:-0500
TZOFFSETTO:-0600
TZNAME:CST
END:STANDARD
END:VTIMEZONE
END:VCALENDAR