BEGIN:VCALENDAR
VERSION:2.0
PRODID:-//wp-events-plugin.com//7.2.3.1//EN
TZID:America/Chicago
X-WR-TIMEZONE:America/Chicago
BEGIN:VEVENT
UID:258@runbeerrepeat.com
DTSTART;TZID=America/Chicago:20230921T182000
DTEND;TZID=America/Chicago:20230921T203000
DTSTAMP:20230816T222458Z
URL:https://runbeerrepeat.com/events/gambit-brewing-on-september-21st/
SUMMARY:Gambit Brewing on September 21st
DESCRIPTION:Join us in St. Paul at Gambit Brewing for our 2nd September run
 . The group meets at 6:20 near the front of the brewery. We head out from 
 the brewery at 6:30 for a run or walk for 15 minutes\, then turn around an
 d come back to socialize and drink some delicious beverages.  All running
  or walking paces are welcome!
CATEGORIES:Club Runs
LOCATION:Gambit Brewing\, 141 4th St E Suite LL2\, St Paul\, MN\, 55101\, U
 nited States
X-APPLE-STRUCTURED-LOCATION;VALUE=URI;X-ADDRESS=141 4th St E Suite LL2\, St
  Paul\, MN\, 55101\, United States;X-APPLE-RADIUS=100;X-TITLE=Gambit Brewi
 ng:geo:0,0
END:VEVENT
BEGIN:VTIMEZONE
TZID:America/Chicago
X-LIC-LOCATION:America/Chicago
BEGIN:DAYLIGHT
DTSTART:20230312T030000
TZOFFSETFROM:-0600
TZOFFSETTO:-0500
TZNAME:CDT
END:DAYLIGHT
END:VTIMEZONE
END:VCALENDAR