BEGIN:VCALENDAR
VERSION:2.0
PRODID:-//wp-events-plugin.com//7.2.3.1//EN
TZID:America/Chicago
X-WR-TIMEZONE:America/Chicago
BEGIN:VEVENT
UID:266@runbeerrepeat.com
DTSTART;TZID=America/Chicago:20231130T182000
DTEND;TZID=America/Chicago:20231130T203000
DTSTAMP:20231031T002850Z
URL:https://runbeerrepeat.com/events/hackamore-brewing-company-on-november
 -30th/
SUMMARY:Hackamore Brewing Company on November 30th
DESCRIPTION:Join us in Chanhassen at Hackamore Brewing Company for our 3rd 
 November run. The group meets at 6:20 near the front of the brewery. We he
 ad out at 6:30 for a run or walk for 15 minutes\, then turn around and com
 e back to socialize and drink some delicious beverages.  All running or w
 alking paces are welcome! Reflective gear and lights are highly recommende
 d.
CATEGORIES:Club Runs
LOCATION:Hackamore Brewing Company\, 18651 Lake Dr E\, Chanhassen\, MN\, 55
 317\, United States
X-APPLE-STRUCTURED-LOCATION;VALUE=URI;X-ADDRESS=18651 Lake Dr E\, Chanhasse
 n\, MN\, 55317\, United States;X-APPLE-RADIUS=100;X-TITLE=Hackamore Brewin
 g Company:geo:0,0
END:VEVENT
BEGIN:VTIMEZONE
TZID:America/Chicago
X-LIC-LOCATION:America/Chicago
BEGIN:STANDARD
DTSTART:20231105T010000
TZOFFSETFROM:-0500
TZOFFSETTO:-0600
TZNAME:CST
END:STANDARD
END:VTIMEZONE
END:VCALENDAR