BEGIN:VCALENDAR
VERSION:2.0
PRODID:-//wp-events-plugin.com//7.2.3.1//EN
TZID:America/Chicago
X-WR-TIMEZONE:America/Chicago
BEGIN:VEVENT
UID:322@runbeerrepeat.com
DTSTART;TZID=America/Chicago:20251120T183000
DTEND;TZID=America/Chicago:20251120T190000
DTSTAMP:20250912T170940Z
URL:https://runbeerrepeat.com/events/haggard-barrel-brewing/
SUMMARY:Haggard Barrel Brewing
DESCRIPTION:Join us at Haggard Barrel Brewing in St Louis Park for an aweso
 me run! Come join us for a 30-minute out-and-back run\, followed by some g
 reat beer! We will meet at 6:20pm in the front of the facility and will st
 art our run at 6:30 sharp so please plan to get there and parked on time. 
 After our 30-minute run we’ll meet back at Haggard Barrel for a post-run
  beverage! If you are joining us\, make sure to RSVP on the website at or 
 the Facebook Event RBR Facebook Events.
CATEGORIES:Club Runs
LOCATION:Haggard Barrel Brewing\, 6413 Cambridge St\, St Louis Park\, MN\, 
 55426\, United States
X-APPLE-STRUCTURED-LOCATION;VALUE=URI;X-ADDRESS=6413 Cambridge St\, St Loui
 s Park\, MN\, 55426\, United States;X-APPLE-RADIUS=100;X-TITLE=Haggard Bar
 rel Brewing:geo:0,0
END:VEVENT
BEGIN:VTIMEZONE
TZID:America/Chicago
X-LIC-LOCATION:America/Chicago
BEGIN:STANDARD
DTSTART:20251102T010000
TZOFFSETFROM:-0500
TZOFFSETTO:-0600
TZNAME:CST
END:STANDARD
END:VTIMEZONE
END:VCALENDAR