BEGIN:VCALENDAR
VERSION:2.0
PRODID:-//wp-events-plugin.com//7.2.3.1//EN
TZID:America/Chicago
X-WR-TIMEZONE:America/Chicago
BEGIN:VEVENT
UID:278@runbeerrepeat.com
DTSTART;TZID=America/Chicago:20240418T182000
DTEND;TZID=America/Chicago:20240418T203000
DTSTAMP:20231201T025253Z
URL:https://runbeerrepeat.com/events/headflyer-brewing-on-thursday-april-1
 8th/
SUMMARY:HeadFlyer Brewing on Thursday April 18th
DESCRIPTION:Join us in Minneapolis at HeadFlyer Brewing for our 2nd April r
 un. The group meets at 6:20 near the front of the brewery. We head out at 
 6:30 for a run or walk for 15 minutes\, then turn around and come back to 
 socialize and drink some delicious beverages.  All running or walking pac
 es are welcome!
CATEGORIES:Club Runs
LOCATION:Headflyer Brewing\, 861 E. HENNEPIN AVE\, Minneapolis\, MN\, 55141
 4\, United States
GEO:44.991815;-93.24350299999998
X-APPLE-STRUCTURED-LOCATION;VALUE=URI;X-ADDRESS=861 E. HENNEPIN AVE\, Minne
 apolis\, MN\, 551414\, United States;X-APPLE-RADIUS=100;X-TITLE=Headflyer 
 Brewing:geo:44.991815,-93.24350299999998
END:VEVENT
BEGIN:VTIMEZONE
TZID:America/Chicago
X-LIC-LOCATION:America/Chicago
BEGIN:DAYLIGHT
DTSTART:20240310T030000
TZOFFSETFROM:-0600
TZOFFSETTO:-0500
TZNAME:CDT
END:DAYLIGHT
END:VTIMEZONE
END:VCALENDAR