BEGIN:VCALENDAR
VERSION:2.0
PRODID:-//wp-events-plugin.com//7.2.3.1//EN
TZID:America/Chicago
X-WR-TIMEZONE:America/Chicago
BEGIN:VEVENT
UID:129@runbeerrepeat.com
DTSTART;TZID=America/Chicago:20190117T183000
DTEND;TZID=America/Chicago:20190117T203000
DTSTAMP:20181231T185732Z
URL:https://runbeerrepeat.com/events/january-17th-run/
SUMMARY:January 17th Run
DESCRIPTION:Our run for January 17th\, 2019 will be from Flat Earth in St P
 aul
CATEGORIES:Club Runs
LOCATION:St Paul Brewing (Formerly Flat Earth Brewing)\, 688 Minnehaha Ave 
 E\, St Paul\, MN\, 55106\, United States
GEO:44.9626949;-93.07167820000001
X-APPLE-STRUCTURED-LOCATION;VALUE=URI;X-ADDRESS=688 Minnehaha Ave E\, St Pa
 ul\, MN\, 55106\, United States;X-APPLE-RADIUS=100;X-TITLE=St Paul Brewing
  (Formerly Flat Earth Brewing):geo:44.9626949,-93.07167820000001
END:VEVENT
BEGIN:VTIMEZONE
TZID:America/Chicago
X-LIC-LOCATION:America/Chicago
BEGIN:STANDARD
DTSTART:20181104T010000
TZOFFSETFROM:-0500
TZOFFSETTO:-0600
TZNAME:CST
END:STANDARD
END:VTIMEZONE
END:VCALENDAR