BEGIN:VCALENDAR
VERSION:2.0
PRODID:-//wp-events-plugin.com//7.2.3.1//EN
TZID:America/Chicago
X-WR-TIMEZONE:America/Chicago
BEGIN:VEVENT
UID:66@runbeerrepeat.com
DTSTART;TZID=America/Chicago:20170119T183000
DTEND;TZID=America/Chicago:20170119T200000
DTSTAMP:20170102T025058Z
URL:https://runbeerrepeat.com/events/january-19th-run/
SUMMARY:January 19th Run
DESCRIPTION:Our 3rd Thursday of January will bring us to Modist Brewing in 
 Minneapolis. 
CATEGORIES:Club Runs
LOCATION:Modist Brewing\, 505 N 3rd St\, Minneapolis\, MN\, 55401\, United 
 States
GEO:44.985267;-93.27648310000001
X-APPLE-STRUCTURED-LOCATION;VALUE=URI;X-ADDRESS=505 N 3rd St\, Minneapolis\
 , MN\, 55401\, United States;X-APPLE-RADIUS=100;X-TITLE=Modist Brewing:geo
 :44.985267,-93.27648310000001
END:VEVENT
BEGIN:VTIMEZONE
TZID:America/Chicago
X-LIC-LOCATION:America/Chicago
BEGIN:STANDARD
DTSTART:20161106T010000
TZOFFSETFROM:-0500
TZOFFSETTO:-0600
TZNAME:CST
END:STANDARD
END:VTIMEZONE
END:VCALENDAR