BEGIN:VCALENDAR
VERSION:2.0
PRODID:-//wp-events-plugin.com//7.2.3.1//EN
TZID:America/Chicago
X-WR-TIMEZONE:America/Chicago
BEGIN:VEVENT
UID:65@runbeerrepeat.com
DTSTART;TZID=America/Chicago:20170105T183000
DTEND;TZID=America/Chicago:20170105T200000
DTSTAMP:20161214T154748Z
URL:https://runbeerrepeat.com/events/january-5th-run/
SUMMARY:January 5th Run
DESCRIPTION:Our first run of 2017 will be at LynLake Brewery in Minneapolis
 .
CATEGORIES:Club Runs
LOCATION:LynLake Brewery\, 2934 Lyndale Avenue South\, Minneapolis\, MN\, 5
 5408\, United States
GEO:44.948899;-93.28850899999998
X-APPLE-STRUCTURED-LOCATION;VALUE=URI;X-ADDRESS=2934 Lyndale Avenue South\,
  Minneapolis\, MN\, 55408\, United States;X-APPLE-RADIUS=100;X-TITLE=LynLa
 ke Brewery:geo:44.948899,-93.28850899999998
END:VEVENT
BEGIN:VTIMEZONE
TZID:America/Chicago
X-LIC-LOCATION:America/Chicago
BEGIN:STANDARD
DTSTART:20161106T010000
TZOFFSETFROM:-0500
TZOFFSETTO:-0600
TZNAME:CST
END:STANDARD
END:VTIMEZONE
END:VCALENDAR