BEGIN:VCALENDAR
VERSION:2.0
PRODID:-//wp-events-plugin.com//7.2.3.1//EN
TZID:America/Chicago
X-WR-TIMEZONE:America/Chicago
BEGIN:VEVENT
UID:209@runbeerrepeat.com
DTSTART;TZID=America/Chicago:20220108T140000
DTEND;TZID=America/Chicago:20220108T150000
DTSTAMP:20220104T221627Z
URL:https://runbeerrepeat.com/events/january-8th-planning-meeting/
SUMMARY:January 8th Planning Meeting
DESCRIPTION:We will be having a planning meeting at Insight Brewing on Satu
 rday\, January 8th at 2pm. No run planned but bring your ideas to help pla
 n the club for the upcoming months!
ATTACH;FMTTYPE=image/jpeg:https://s3.amazonaws.com/storage.runbeerrepeat.c
 om/2019/06/rbr-insight.png
CATEGORIES:Other Events
LOCATION:Insight Brewing\, 2821 E Hennepin Ave\, Minneapolis\, MN\, 55413\,
  United States
GEO:44.991933;-93.21294999999998
X-APPLE-STRUCTURED-LOCATION;VALUE=URI;X-ADDRESS=2821 E Hennepin Ave\, Minne
 apolis\, MN\, 55413\, United States;X-APPLE-RADIUS=100;X-TITLE=Insight Bre
 wing:geo:44.991933,-93.21294999999998
END:VEVENT
BEGIN:VTIMEZONE
TZID:America/Chicago
X-LIC-LOCATION:America/Chicago
BEGIN:STANDARD
DTSTART:20211107T010000
TZOFFSETFROM:-0500
TZOFFSETTO:-0600
TZNAME:CST
END:STANDARD
END:VTIMEZONE
END:VCALENDAR