BEGIN:VCALENDAR
VERSION:2.0
PRODID:-//wp-events-plugin.com//7.2.3.1//EN
TZID:America/Chicago
X-WR-TIMEZONE:America/Chicago
BEGIN:VEVENT
UID:38@runbeerrepeat.com
DTSTART;TZID=America/Chicago:20160107T181500
DTEND;TZID=America/Chicago:20160107T200000
DTSTAMP:20151211T154251Z
URL:https://runbeerrepeat.com/events/january/
SUMMARY:January 7th Run
DESCRIPTION:Join us for our first Thursday run of the month. Locations are 
 announced at least 1-2 weeks before the run.
CATEGORIES:Club Runs
LOCATION:Able Seedhouse and Brewery\, 1121 QUINCY ST NE\, Minneapolis\, MN\
 , United States
GEO:44.9989655;-93.25121030000003
X-APPLE-STRUCTURED-LOCATION;VALUE=URI;X-ADDRESS=1121 QUINCY ST NE\, Minneap
 olis\, MN\, United States;X-APPLE-RADIUS=100;X-TITLE=Able Seedhouse and Br
 ewery:geo:44.9989655,-93.25121030000003
END:VEVENT
BEGIN:VTIMEZONE
TZID:America/Chicago
X-LIC-LOCATION:America/Chicago
BEGIN:STANDARD
DTSTART:20151101T010000
TZOFFSETFROM:-0500
TZOFFSETTO:-0600
TZNAME:CST
END:STANDARD
END:VTIMEZONE
END:VCALENDAR