BEGIN:VCALENDAR
VERSION:2.0
PRODID:-//wp-events-plugin.com//7.2.3.1//EN
TZID:America/Chicago
X-WR-TIMEZONE:America/Chicago
BEGIN:VEVENT
UID:192@runbeerrepeat.com
DTSTART;TZID=America/Chicago:20210715T183000
DTEND;TZID=America/Chicago:20210715T203000
DTSTAMP:20210713T144844Z
URL:https://runbeerrepeat.com/events/july-15th-run/
SUMMARY:July 15th Run
DESCRIPTION:Our run for July 15th will be from Badweather Brewing
ATTACH;FMTTYPE=image/jpeg:https://s3.amazonaws.com/storage.runbeerrepeat.c
 om/2019/06/rbr-bad-weather.png
CATEGORIES:Club Runs
LOCATION:Bad Weather Brewing\, 414 7th Street West\, St Paul\, MN\, 55102\,
  United States
GEO:44.9389353;-93.11019970000001
X-APPLE-STRUCTURED-LOCATION;VALUE=URI;X-ADDRESS=414 7th Street West\, St Pa
 ul\, MN\, 55102\, United States;X-APPLE-RADIUS=100;X-TITLE=Bad Weather Bre
 wing:geo:44.9389353,-93.11019970000001
END:VEVENT
BEGIN:VTIMEZONE
TZID:America/Chicago
X-LIC-LOCATION:America/Chicago
BEGIN:DAYLIGHT
DTSTART:20210314T030000
TZOFFSETFROM:-0600
TZOFFSETTO:-0500
TZNAME:CDT
END:DAYLIGHT
END:VTIMEZONE
END:VCALENDAR