BEGIN:VCALENDAR
VERSION:2.0
PRODID:-//wp-events-plugin.com//7.2.3.1//EN
TZID:America/Chicago
X-WR-TIMEZONE:America/Chicago
BEGIN:VEVENT
UID:174@runbeerrepeat.com
DTSTART;TZID=America/Chicago:20200716T190000
DTEND;TZID=America/Chicago:20200716T210000
DTSTAMP:20200615T190732Z
URL:https://runbeerrepeat.com/events/july-16th-gorunthenbeerrepeat/
SUMMARY:July 16th #GoRunThenBeerRepeat
DESCRIPTION:Join us July 16th for another RunBeerRepeat #GoRunThenBeerRepea
 t event! This one will be hosted by club member Becky in NE Minneapolis ne
 ar the intersection of 19th Ave NE and Johnson St NE. To protect Becky's p
 rivacy\, the Exact address will be emailed to all RSVP's the week of the r
 un.\n\nAs usual (for now)\, go for a 30 minute run on your own\, following
  out COVID-19 guidance\, then bring your own everything and come hang out 
 with us!
CATEGORIES:Club Runs
END:VEVENT
BEGIN:VTIMEZONE
TZID:America/Chicago
X-LIC-LOCATION:America/Chicago
BEGIN:DAYLIGHT
DTSTART:20200308T030000
TZOFFSETFROM:-0600
TZOFFSETTO:-0500
TZNAME:CDT
END:DAYLIGHT
END:VTIMEZONE
END:VCALENDAR